BEGIN:VCALENDAR
VERSION:2.0
PRODID:-//Love Castleconnell - ECPv5.16.1//NONSGML v1.0//EN
CALSCALE:GREGORIAN
METHOD:PUBLISH
X-ORIGINAL-URL:https://lovecastleconnell.com
X-WR-CALDESC:Events for Love Castleconnell
REFRESH-INTERVAL;VALUE=DURATION:PT1H
X-Robots-Tag:noindex
X-PUBLISHED-TTL:PT1H
BEGIN:VTIMEZONE
TZID:Europe/London
BEGIN:DAYLIGHT
TZOFFSETFROM:+0000
TZOFFSETTO:+0100
TZNAME:BST
DTSTART:20230326T010000
END:DAYLIGHT
BEGIN:STANDARD
TZOFFSETFROM:+0100
TZOFFSETTO:+0000
TZNAME:GMT
DTSTART:20231029T010000
END:STANDARD
END:VTIMEZONE
BEGIN:VEVENT
DTSTART;TZID=Europe/London:20230924T150000
DTEND;TZID=Europe/London:20230924T180000
DTSTAMP:20260425T144315
CREATED:20230914T201728Z
LAST-MODIFIED:20230914T201728Z
UID:4955-1695567600-1695578400@lovecastleconnell.com
SUMMARY:BUG's Annual Charity Fundraiser 2023
DESCRIPTION:Bradshaws Ukulele Group “BUG’s” based in Castleconnell was founded in 2017. We have made many wonderful memories with this group\, on that journey we have raised funds for several charities including our own local C.A.M. cancer support group\, Enable Irl and Pieta House.  This year’s Ukulele fundraiser is in aid of the Children’s Grief Centre and takes place in Bradshaws on Sunday 24th of Sept from 3pm – all are welcome\, we have complimentary tea/coffee and sweet treats. For our raffle we have some fantastic hampers. We are joined by Limerick ukulele groups supporting us on the day and a few surprises
URL:https://lovecastleconnell.com/event/bugs-annual-charity-fundraiser-2023/
LOCATION:Bradshaws\, Cloon Castleconnell Co. Limerick\, Castleconnell\, V94 D2T8
ATTACH;FMTTYPE=image/jpeg:https://lovecastleconnell.com/wp-content/uploads/2023/09/fundraiser-a4-document-3.jpg
ORGANIZER;CN="Bradshaws":MAILTO:info@bradshaws.ie
END:VEVENT
END:VCALENDAR