BEGIN:VCALENDAR
VERSION:2.0
PRODID:-//Love Castleconnell - ECPv5.16.1//NONSGML v1.0//EN
CALSCALE:GREGORIAN
METHOD:PUBLISH
X-WR-CALNAME:Love Castleconnell
X-ORIGINAL-URL:https://lovecastleconnell.com
X-WR-CALDESC:Events for Love Castleconnell
REFRESH-INTERVAL;VALUE=DURATION:PT1H
X-Robots-Tag:noindex
X-PUBLISHED-TTL:PT1H
BEGIN:VTIMEZONE
TZID:Europe/London
BEGIN:DAYLIGHT
TZOFFSETFROM:+0000
TZOFFSETTO:+0100
TZNAME:BST
DTSTART:20240331T010000
END:DAYLIGHT
BEGIN:STANDARD
TZOFFSETFROM:+0100
TZOFFSETTO:+0000
TZNAME:GMT
DTSTART:20241027T010000
END:STANDARD
END:VTIMEZONE
BEGIN:VEVENT
DTSTART;TZID=Europe/London:20240222T193000
DTEND;TZID=Europe/London:20240222T203000
DTSTAMP:20260421T035949
CREATED:20240202T105224Z
LAST-MODIFIED:20240202T105224Z
UID:5884-1708630200-1708633800@lovecastleconnell.com
SUMMARY:Parents Internet Safety Talk
DESCRIPTION:Internet Safety Talk Hosted by Zeeko and funded by Ahane NS\, Castleconnell NS and Lisnagry NS\nCovering:\n• Digital Health\n• Digital Identity\n• Appropriate Content\n• Online Deception\n• Cyber-Bullying
URL:https://lovecastleconnell.com/event/parents-internet-safety-talk/
LOCATION:Castle Oaks\, Castle Oaks House Hotel\, Limerick
ATTACH;FMTTYPE=image/jpeg:https://lovecastleconnell.com/wp-content/uploads/2024/02/423326878_873946311199166_7554182718933590003_n.jpg
END:VEVENT
END:VCALENDAR