BEGIN:VCALENDAR
VERSION:2.0
PRODID:-//Love Castleconnell - ECPv5.16.1//NONSGML v1.0//EN
CALSCALE:GREGORIAN
METHOD:PUBLISH
X-WR-CALNAME:Love Castleconnell
X-ORIGINAL-URL:https://lovecastleconnell.com
X-WR-CALDESC:Events for Love Castleconnell
REFRESH-INTERVAL;VALUE=DURATION:PT1H
X-Robots-Tag:noindex
X-PUBLISHED-TTL:PT1H
BEGIN:VTIMEZONE
TZID:Europe/London
BEGIN:DAYLIGHT
TZOFFSETFROM:+0000
TZOFFSETTO:+0100
TZNAME:BST
DTSTART:20250330T010000
END:DAYLIGHT
BEGIN:STANDARD
TZOFFSETFROM:+0100
TZOFFSETTO:+0000
TZNAME:GMT
DTSTART:20251026T010000
END:STANDARD
BEGIN:DAYLIGHT
TZOFFSETFROM:+0000
TZOFFSETTO:+0100
TZNAME:BST
DTSTART:20260329T010000
END:DAYLIGHT
BEGIN:STANDARD
TZOFFSETFROM:+0100
TZOFFSETTO:+0000
TZNAME:GMT
DTSTART:20261025T010000
END:STANDARD
END:VTIMEZONE
BEGIN:VEVENT
DTSTART;TZID=Europe/London:20250220T100000
DTEND;TZID=Europe/London:20260212T100000
DTSTAMP:20260425T234133
CREATED:20250206T185708Z
LAST-MODIFIED:20260206T014202Z
UID:6415-1740045600-1770890400@lovecastleconnell.com
SUMMARY:Citizens Advice in ACM Shannon House
DESCRIPTION:ACM are delighted to announce that Bríd O’ Callaghan will be available in ACM Shannon House every Thursday from 10am – 12.30pm providing advice and guidance on any issues you might have in relation to Employment\, Housing\, Health\, Consumer Law\, Social Welfare payments\, Pensions\, Civil rights and general enquiries. Pop in!
URL:https://lovecastleconnell.com/event/citizens-advice-in-acm-shannon-house/
LOCATION:ACM Shannon\, Main St.\, Castleconnell\, Limerick\, Limerick\, V94 RT61
ATTACH;FMTTYPE=image/png:https://lovecastleconnell.com/wp-content/uploads/2025/02/provid1.png
ORGANIZER;CN="Br%C3%ADd%20O%27%20Callaghan":MAILTO:acm@castleconnell.ie
END:VEVENT
BEGIN:VEVENT
DTSTART;TZID=Europe/London:20250905T100000
DTEND;TZID=Europe/London:20260328T120000
DTSTAMP:20260425T234133
CREATED:20250829T140601Z
LAST-MODIFIED:20250829T145153Z
UID:6673-1757066400-1774699200@lovecastleconnell.com
SUMMARY:Baby Massage and Baby Yoga
DESCRIPTION:Baby Massage & Baby Yoga Classes\nWith Wendy Condell\nWendy has years of experience and is a wealth of knowledge!\nDates for Baby Massage classes:\n5th September\n19th September\n17th October\n7th November\n5th December\nDates for Baby Yoga classes:\n19th December 2025\n23rd January 2026\n6th February 2026\n6th March 2026\n20th March 2026\nTea\, coffee\, light snacks and chats available after for all attendees\n🙂\nSpaces are limited for these classes. To avoid disappointment contact us to book your place now!
URL:https://lovecastleconnell.com/event/baby-massage-and-baby-yoga/
LOCATION:ACM Shannon\, Main St.\, Castleconnell\, Limerick\, Limerick\, V94 RT61
ATTACH;FMTTYPE=image/jpeg:https://lovecastleconnell.com/wp-content/uploads/2025/08/539319618_3732060000419905_6742289891446156990_n.jpg
ORGANIZER;CN="ACM%20Community%20Development%20Society%20Ltd":MAILTO:acm@castleconnell.ie
END:VEVENT
BEGIN:VEVENT
DTSTART;TZID=Europe/London:20260213T190000
DTEND;TZID=Europe/London:20260213T203000
DTSTAMP:20260425T234133
CREATED:20260116T145931Z
LAST-MODIFIED:20260117T120404Z
UID:6843-1771009200-1771014600@lovecastleconnell.com
SUMMARY:CD Launch: Fiana Ní Chonaill ‘Something Old Something New’
DESCRIPTION:Something Old Something New’ is the second album by Irish harper composer Fiana Ní Chonaill who hails from Castleconnell\, Co. Limerick. This album is a culmination of a project that explores the blending of traditional music and new compositions\, presenting harp-specific repertoire\, slow airs\, jigs\, reels\, hornpipes\, as well as newly composed music inspired by her local area and life events. Contemporary Irish artist Meadhbh Ní Eidhin created individual artworks inspired by each of Fiana’s newly composed tunes\, adding an evocative visual dimension to the music. These original works will be on display as part of the performance.\n’Something Old Something New’ will officially be launched on the 13th of February at Kilmurry Arts & Heritage Centre\, Castletroy\, Co.Limerick at 7pm. This is a free event and all are welcome.
URL:https://lovecastleconnell.com/event/cd-launch-fiana-ni-chonaill-something-old-something-new/
LOCATION:Kilmurry Arts\, Castletroy\, Co.Limerick\, Limerick\, V94 EH63
ATTACH;FMTTYPE=image/jpeg:https://lovecastleconnell.com/wp-content/uploads/2026/01/invitationtolaunch.jpg
END:VEVENT
BEGIN:VEVENT
DTSTART;TZID=Europe/London:20260213T193000
DTEND;TZID=Europe/London:20260213T213000
DTSTAMP:20260425T234133
CREATED:20260123T121537Z
LAST-MODIFIED:20260123T121537Z
UID:6848-1771011000-1771018200@lovecastleconnell.com
SUMMARY:Galentine's Paint & Sip
DESCRIPTION:Get ready for a girls night out ! Join us for our Galentine’s Paint & Sip Event.\nPromised to be a fabulous evening with good music painting & prosecco.\nAll materials supplied €20 per person. Booking is essential so please contact us to book your place.\nacm@castleconnell.ie – 061 372750 – 089 214 6010
URL:https://lovecastleconnell.com/event/galentines-paint-sip/
LOCATION:ACM Shannon\, Shannon House\,\, Limerick\, V94RT61
ATTACH;FMTTYPE=image/png:https://lovecastleconnell.com/wp-content/uploads/2026/01/red-and-pink-organic-illustrative-personal-galentines-day-invitation.png
ORGANIZER;CN="ACM%20Community%20Centre":MAILTO:acm@castleconnell.ie
END:VEVENT
BEGIN:VEVENT
DTSTART;TZID=Europe/London:20260217T200000
DTEND;TZID=Europe/London:20260217T213000
DTSTAMP:20260425T234133
CREATED:20260204T151126Z
LAST-MODIFIED:20260204T151126Z
UID:6856-1771358400-1771363800@lovecastleconnell.com
SUMMARY:Children Learning Difficulties.
DESCRIPTION:You are invited to attend a talk at the ACM Community Centre\, Shannon House\, Castleconnell re Special Educational Technology for pupils with special educational needs e.g. Autism\, Dyslexia\, Dyspraxia.  The purpose of this presentation focuses upon exploring the various types of special educational technology which can be utilised for pupils who have special educational needs.\nThe presentation will first examine the concept of learning difficulties in general including a discussion about the types of difficulties experienced by those who have Dyslexia and Dyspraxia. The presentation will also explore the many types of technologies which exist within the field of special needs education and discusses how they can be used to support the needs of these children. Finally\, we will illustrate simple resources which can be created using one type of content free software.\nThe talk will be presented by John Phayer\, B.Sc.\, M.A. in Ed. (Research)\, Specialist Dip. in Teaching\, Learning and Scholarship.\nDetails – 8pm Tuesday 17th February\, Shannon House\, Castleconnell\nAll welcome\, entry is free of charge.
URL:https://lovecastleconnell.com/event/children-learning-difficulties/
LOCATION:ACM Shannon\, Shannon House\,\, Limerick\, V94RT61
ATTACH;FMTTYPE=image/png:https://lovecastleconnell.com/wp-content/uploads/2026/02/children-learning-difficulties-you-are-invited-to-attend-a-talk-at-the-acm-community-centre-shannon-house-castleconnell-re-special-educational-technology-for-pupils-with-special-educational-need.png
ORGANIZER;CN="ACM%20Community%20Centre":MAILTO:acm@castleconnell.ie
END:VEVENT
END:VCALENDAR