BEGIN:VCALENDAR
VERSION:2.0
PRODID:-//Love Castleconnell - ECPv5.16.1//NONSGML v1.0//EN
CALSCALE:GREGORIAN
METHOD:PUBLISH
X-WR-CALNAME:Love Castleconnell
X-ORIGINAL-URL:https://lovecastleconnell.com
X-WR-CALDESC:Events for Love Castleconnell
REFRESH-INTERVAL;VALUE=DURATION:PT1H
X-Robots-Tag:noindex
X-PUBLISHED-TTL:PT1H
BEGIN:VTIMEZONE
TZID:Europe/London
BEGIN:DAYLIGHT
TZOFFSETFROM:+0000
TZOFFSETTO:+0100
TZNAME:BST
DTSTART:20250330T010000
END:DAYLIGHT
BEGIN:STANDARD
TZOFFSETFROM:+0100
TZOFFSETTO:+0000
TZNAME:GMT
DTSTART:20251026T010000
END:STANDARD
BEGIN:DAYLIGHT
TZOFFSETFROM:+0000
TZOFFSETTO:+0100
TZNAME:BST
DTSTART:20260329T010000
END:DAYLIGHT
BEGIN:STANDARD
TZOFFSETFROM:+0100
TZOFFSETTO:+0000
TZNAME:GMT
DTSTART:20261025T010000
END:STANDARD
END:VTIMEZONE
BEGIN:VEVENT
DTSTART;TZID=Europe/London:20250905T100000
DTEND;TZID=Europe/London:20260328T120000
DTSTAMP:20260420T095420
CREATED:20250829T140601Z
LAST-MODIFIED:20250829T145153Z
UID:6673-1757066400-1774699200@lovecastleconnell.com
SUMMARY:Baby Massage and Baby Yoga
DESCRIPTION:Baby Massage & Baby Yoga Classes\nWith Wendy Condell\nWendy has years of experience and is a wealth of knowledge!\nDates for Baby Massage classes:\n5th September\n19th September\n17th October\n7th November\n5th December\nDates for Baby Yoga classes:\n19th December 2025\n23rd January 2026\n6th February 2026\n6th March 2026\n20th March 2026\nTea\, coffee\, light snacks and chats available after for all attendees\n🙂\nSpaces are limited for these classes. To avoid disappointment contact us to book your place now!
URL:https://lovecastleconnell.com/event/baby-massage-and-baby-yoga/
LOCATION:ACM Shannon\, Main St.\, Castleconnell\, Limerick\, Limerick\, V94 RT61
ATTACH;FMTTYPE=image/jpeg:https://lovecastleconnell.com/wp-content/uploads/2025/08/539319618_3732060000419905_6742289891446156990_n.jpg
ORGANIZER;CN="ACM%20Community%20Development%20Society%20Ltd":MAILTO:acm@castleconnell.ie
END:VEVENT
BEGIN:VEVENT
DTSTART;TZID=Europe/London:20260305T200000
DTEND;TZID=Europe/London:20260305T210000
DTSTAMP:20260420T095420
CREATED:20260303T095821Z
LAST-MODIFIED:20260303T095821Z
UID:6861-1772740800-1772744400@lovecastleconnell.com
SUMMARY:Improving Our Local Shannon River
DESCRIPTION:Your local conservation group The Castleconnell River Association has been working to preserve and improve the River Shannon and its Wildlife Habitat in Castleconnell. You are invited to attend this free local talk to see and hear what we have been doing. Everyone Welcome!
URL:https://lovecastleconnell.com/event/improving-our-local-shannon-river/
LOCATION:ACM Castle\, 14/15 CASTLE STREET\, CASTLECONNELL\, CO. LIMERICK\, V94H90P\, Limerick\, V94RT61
ATTACH;FMTTYPE=image/jpeg:https://lovecastleconnell.com/wp-content/uploads/2026/03/644996525_3897652820527288_7451099323266789747_n.jpg
ORGANIZER;CN="Castleconnell%20River%20Association":MAILTO:acm@castleconnell.ie
END:VEVENT
BEGIN:VEVENT
DTSTART;TZID=Europe/London:20260317T131500
DTEND;TZID=Europe/London:20260317T141500
DTSTAMP:20260420T095420
CREATED:20260303T095832Z
LAST-MODIFIED:20260303T095832Z
UID:6869-1773753300-1773756900@lovecastleconnell.com
SUMMARY:Seisuin ceol na nOg
DESCRIPTION:Youth Trad Session. All welcome.
URL:https://lovecastleconnell.com/event/seisuin-ceol-na-nog/
LOCATION:ACM Shannon\, Shannon House\,\, Limerick\, V94RT61
ATTACH;FMTTYPE=image/jpeg:https://lovecastleconnell.com/wp-content/uploads/2026/03/643825454_3897856403840263_6282312803843323410_n.jpg
ORGANIZER;CN="Comhluadar%20Luimnigh":MAILTO:eolas@comhluadarluimnigh.ie
END:VEVENT
BEGIN:VEVENT
DTSTART;TZID=Europe/London:20260318T200000
DTEND;TZID=Europe/London:20260318T213000
DTSTAMP:20260420T095420
CREATED:20260303T095827Z
LAST-MODIFIED:20260303T095827Z
UID:6865-1773864000-1773869400@lovecastleconnell.com
SUMMARY:Book Talk.
DESCRIPTION:The story of Nosegay – as you’ve never heard it before!\nBrian Leahy will draw from his forthcoming book.
URL:https://lovecastleconnell.com/event/book-talk/
LOCATION:ACM Shannon\, Shannon House\,\, Limerick\, V94RT61
ATTACH;FMTTYPE=image/jpeg:https://lovecastleconnell.com/wp-content/uploads/2026/03/645973991_3900457523580151_7930676055857053905_n.jpg
ORGANIZER;CN="ACM%20Community%20Centre":MAILTO:acm@castleconnell.ie
END:VEVENT
BEGIN:VEVENT
DTSTART;TZID=Europe/London:20260320T193000
DTEND;TZID=Europe/London:20260320T203000
DTSTAMP:20260420T095420
CREATED:20260303T095837Z
LAST-MODIFIED:20260303T095837Z
UID:6873-1774035000-1774038600@lovecastleconnell.com
SUMMARY:Seisuin le John Spillane
DESCRIPTION:Tickets available online by scanning the QR code on the poster.
URL:https://lovecastleconnell.com/event/seisuin-le-john-spillane/
LOCATION:ACM Castle\, 14/15 CASTLE STREET\, CASTLECONNELL\, CO. LIMERICK\, V94H90P\, Limerick\, V94H90P
ATTACH;FMTTYPE=image/jpeg:https://lovecastleconnell.com/wp-content/uploads/2026/03/643842404_3897856333840270_1880637110331345708_n.jpg
ORGANIZER;CN="Comhluadar%20Luimnigh":MAILTO:eolas@comhluadarluimnigh.ie
END:VEVENT
BEGIN:VEVENT
DTSTART;TZID=Europe/London:20260325T120000
DTEND;TZID=Europe/London:20260325T130000
DTSTAMP:20260420T095420
CREATED:20260303T120114Z
LAST-MODIFIED:20260303T120114Z
UID:6881-1774440000-1774443600@lovecastleconnell.com
SUMMARY:Chair Yoga
DESCRIPTION:Chair Yoga Class – Contact Stephen for more details. 0858812815.
URL:https://lovecastleconnell.com/event/chair-yoga/
LOCATION:Castleconnell Parish\, Limerick
ATTACH;FMTTYPE=image/jpeg:https://lovecastleconnell.com/wp-content/uploads/2026/03/643538741_122265812114151519_7899703149411365420_n.jpg
END:VEVENT
BEGIN:VEVENT
DTSTART;TZID=Europe/London:20260327T190000
DTEND;TZID=Europe/London:20260327T210000
DTSTAMP:20260420T095420
CREATED:20260303T102840Z
LAST-MODIFIED:20260303T102840Z
UID:6877-1774638000-1774645200@lovecastleconnell.com
SUMMARY:Easter Flower Wreath Workshop
DESCRIPTION:Easter wreath making course given by Flowers by Liga\nFriday 27th of March from 7-9pm in Shannon House Castleconnell.\n€55 pp booking is essential. Please contact us to book your space.\nEmail: acm@castleconnell.ie\nPhone: 061 372750\nMobile: 089 2146010
URL:https://lovecastleconnell.com/event/easter-flower-wreath-workshop/
LOCATION:ACM Shannon\, Shannon House\,\, Limerick\, V94RT61
ATTACH;FMTTYPE=image/png:https://lovecastleconnell.com/wp-content/uploads/2026/03/untitled-design-8.png
ORGANIZER;CN="ACM%20Community%20Centre":MAILTO:acm@castleconnell.ie
END:VEVENT
BEGIN:VEVENT
DTSTART;TZID=Europe/London:20260328T103000
DTEND;TZID=Europe/London:20260328T180000
DTSTAMP:20260420T095420
CREATED:20260311T104811Z
LAST-MODIFIED:20260311T104811Z
UID:6893-1774693800-1774720800@lovecastleconnell.com
SUMMARY:Ardagh Golf Outing
DESCRIPTION:Castle Golf Society – 1st outing of 2026\nFor a place on the timesheet\, WhatsApp 085 2464949 two weeks before outing.\nTimesheet will be published on WhatsApp 1 week before outing.\nNEW MEMBERS WELCOME
URL:https://lovecastleconnell.com/event/ardagh-golf-outing-2/
LOCATION:Ardagh GC
ATTACH;FMTTYPE=image/png:https://lovecastleconnell.com/wp-content/uploads/2026/03/castle-golf-society2.png
END:VEVENT
END:VCALENDAR